BEGIN:VCALENDAR
VERSION:2.0
PRODID:-//ChamberMaster//Event Calendar 2.0//EN
METHOD:PUBLISH
X-PUBLISHED-TTL:P3D
REFRESH-INTERVAL:P3D
CALSCALE:GREGORIAN
BEGIN:VEVENT
DTSTART:20290912T170000Z
DTEND:20290912T170000Z
X-MICROSOFT-CDO-ALLDAYEVENT:FALSE
SUMMARY:Young Professionals Committee Meeting
DESCRIPTION:Young Professionals of Jamestown (YPJ) is a committee of the Jamestown Area Chamber of Commerce.
X-ALT-DESC;FMTTYPE=text/html:<span style="font-size:20px\;"><span style="font-family: &quot\;eras medium itc&quot\;\, sans-serif\;"><font color="#000000" face="Eras Medium ITC">Young Professionals of Jamestown (YPJ) is a committee of the Jamestown Area Chamber of Commerce.&nbsp\;</font></span></span>
LOCATION:Chamber Lower Level 120 2nd St SE Jamestown\, ND
UID:e.546.14875
SEQUENCE:3
DTSTAMP:20260421T155414Z
URL:https://business.jamestownchamber.com/events/details/young-professionals-committee-meeting-09-12-2029-14875
END:VEVENT

END:VCALENDAR
