BEGIN:VCALENDAR
VERSION:2.0
PRODID:-//ChamberMaster//Event Calendar 2.0//EN
METHOD:PUBLISH
X-PUBLISHED-TTL:P3D
REFRESH-INTERVAL:P3D
CALSCALE:GREGORIAN
BEGIN:VEVENT
DTSTART:20260521T213000Z
DTEND:20260521T230000Z
X-MICROSOFT-CDO-ALLDAYEVENT:FALSE
SUMMARY:S.T.I.R. With The Chamber/Tourism
DESCRIPTION:The Jamestown Area Chamber of Commerce invites you to join us for appetizers\, drinks\, and networking at our next S.T.I.R. event.\n\nS.T.I.R. stands for Socialize\, Talk\, Interact\, Remember and brings Chamber members and community members together to make connections and learn more about a local business all with some food and conversation.\n\nJoin us Thursday\, May 21st from 4:30 PM to 6:00 PM at The Jamestown Area Chamber of Commerce as we connect\, network\, and learn more about the business and what they provide for our community.\n\nRegister online at JamestownChamber.com for a chance to win Chamber Bucks just for attending.\n\nInterested in hosting a future S.T.I.R. event? Call the Chamber at 701-252-4830 or email membership@jamestownchamber.com to get on the schedule.
X-ALT-DESC;FMTTYPE=text/html:<p data-end="349" data-start="221" style="color: rgb(0\, 0\, 0)\; font-size: medium\;"><span style="font-size:14px\;">The Jamestown Area Chamber of Commerce invites you to join us for appetizers\, drinks\, and networking at our next S.T.I.R. event.</span></p>\n\n<p data-end="563" data-start="351" style="color: rgb(0\, 0\, 0)\; font-size: medium\;"><span style="font-size:14px\;">S.T.I.R. stands for <strong data-end="410" data-start="371">Socialize\, Talk\, Interact\, Remember</strong> and brings Chamber members and community members together to make connections and learn more about a local business&mdash\;all with some food and conversation.</span></p>\n\n<p data-end="713" data-start="565" style="color: rgb(0\, 0\, 0)\; font-size: medium\;"><span style="font-size:14px\;">Join us <strong data-end="596" data-start="573">Thursday\, May 21st</strong>&nbsp\;from <strong data-end="625" data-start="603">4:30 PM to 6:00 PM</strong> at <strong data-end="656" data-start="629">The Jamestown Area Chamber of Commerce</strong>&nbsp\;as we connect\, network\, and learn more about the business and what they provide for our community.</span></p>\n\n<p data-end="816" data-start="715" style="color: rgb(0\, 0\, 0)\; font-size: medium\;"><span style="font-size:14px\;">Register online at <strong data-end="758" data-start="734">JamestownChamber.com</strong> for a chance to win <strong data-end="796" data-start="779">Chamber Bucks</strong> just for attending.</span></p>\n\n<p data-end="970" data-start="818" style="color: rgb(0\, 0\, 0)\; font-size: medium\;"><span style="font-size:14px\;">Interested in hosting a future S.T.I.R. event? Call the Chamber at <strong data-end="901" data-start="885">701-252-4830</strong> or email <strong data-end="946" data-start="911"><a class="decorated-link cursor-pointer" data-end="944" data-start="913" rel="noopener">membership@jamestownchamber.com&nbsp\;</a></strong>to get on the schedule.</span></p>\n
LOCATION:120 2nd St SE Jamestown\, ND 58401
UID:e.546.16054
SEQUENCE:3
DTSTAMP:20260421T175847Z
URL:https://business.jamestownchamber.com/events/details/s-t-i-r-with-the-chamber-tourism-16054
END:VEVENT

END:VCALENDAR
