BEGIN:VCALENDAR
VERSION:2.0
PRODID:-//ChamberMaster//Event Calendar 2.0//EN
METHOD:PUBLISH
X-PUBLISHED-TTL:P3D
REFRESH-INTERVAL:P3D
CALSCALE:GREGORIAN
BEGIN:VEVENT
DTSTART:20290907T123000Z
DTEND:20290907T140000Z
X-MICROSOFT-CDO-ALLDAYEVENT:FALSE
SUMMARY:Ag Energy Committee
DESCRIPTION:The monthly meeting of the Chamber Ag & Energy Committee
X-ALT-DESC;FMTTYPE=text/html:The monthly meeting of the Chamber Ag &amp\; Energy Committee
LOCATION:Jamestown Chamber of Commerce 120 2nd St SE Jamestown\, ND 58401
UID:e.546.15650
SEQUENCE:3
DTSTAMP:20260421T155327Z
URL:https://business.jamestownchamber.com/events/details/ag-energy-committee-09-07-2029-15650
END:VEVENT

END:VCALENDAR
