BEGIN:VCALENDAR
VERSION:2.0
PRODID:-//ChamberMaster//Event Calendar 2.0//EN
METHOD:PUBLISH
X-PUBLISHED-TTL:P3D
REFRESH-INTERVAL:P3D
CALSCALE:GREGORIAN
BEGIN:VEVENT
DTSTART:20260725T143000Z
DTEND:20260725T160000Z
X-MICROSOFT-CDO-ALLDAYEVENT:FALSE
SUMMARY:2026 Buffalo Days Parade
DESCRIPTION:It's time for a Parade!\n\n8:30: Parade line-up at McElroy Park - enter at the baseball diamonds behind Cash Wise. Keep right and follow instructions from staff and volunteers.\n\n9:30: Parade begins!\n\n\n\nRegistration Information Here\n\n\n\nPLEASE BE ADVISED: \n\nA cleaning fee of $200 will be assigned if horses/animals used in the parade make a mess\, and those responsible for them do not clean up afterwards. Please help us keep our streets clean!
X-ALT-DESC;FMTTYPE=text/html:<br />\n<span style="font-family:arial\;"><span style="font-size:22px\;"><u>&#8203\;It&#39\;s time for a Parade!</u></span><br />\n<span style="font-size:22px\;">8:30: Parade line-up at McElroy Park - enter at the baseball diamonds behind Cash Wise. Keep right and follow instructions from staff and volunteers.<br />\n9:30: Parade begins!</span><br />\n<br />\n<span style="font-size:22px\;">Registration Information Here<br />\n<br />\n<strong><u>PLEASE BE ADVISED:&nbsp\;</u></strong><br />\nA cleaning fee of $200 will be assigned if horses/animals used in the parade make a mess\, and those responsible for them do not clean up afterwards. Please help us keep our streets clean!</span></span><br />\n&nbsp\;
LOCATION:Saturday\, July 25\, 2026 Line up begins at 8:30 am - parade order is first come first serve. Please enter the parade route on the east side of the park and follow the directions of staff.
UID:e.546.16055
SEQUENCE:3
DTSTAMP:20260422T000835Z
URL:https://business.jamestownchamber.com/events/details/2026-buffalo-days-parade-16055
END:VEVENT

END:VCALENDAR
